BEGIN:VCALENDAR
VERSION:2.0
PRODID:-//www.ketchikanarts.org//NONSGML kigkonsult.se iCalcreator 2.30.10/
 /
CALSCALE:GREGORIAN
METHOD:PUBLISH
UID:73023a30-8e94-494d-949a-8c438fa23422
X-WR-CALDESC:The Ketchikan Public Library hosts author Leland Hale\, as he 
 presents his latest book 'What Happened in Craig: Alaska's Worst Unsolved 
 Mass Murder'
X-WR-RELCALID:9a48c2043b1b0fb3620cfe727c352fef
X-WR-TIMEZONE:America/Anchorage
BEGIN:VTIMEZONE
TZID:America/Anchorage
BEGIN:STANDARD
TZNAME:AKST
DTSTART:20181104T020000
TZOFFSETFROM:-0800
TZOFFSETTO:-0900
RDATE:20191103T020000
END:STANDARD
BEGIN:DAYLIGHT
TZNAME:AKDT
DTSTART:20180311T020000
TZOFFSETFROM:-0900
TZOFFSETTO:-0800
RDATE:20190310T020000
RDATE:20200308T020000
END:DAYLIGHT
END:VTIMEZONE
BEGIN:VEVENT
UID:3135940e-1a6e-48c4-95aa-ebd4a4c05017
DTSTAMP:20260423T025254Z
DESCRIPTION:The Ketchikan Public Library hosts author Leland Hale\, as he p
 resents his latest book 'What Happened in Craig: Alaska's Worst Unsolved M
 ass Murder'
DTSTART;TZID=America/Anchorage:20181115T183000
DTEND;TZID=America/Anchorage:20181115T193000
LOCATION:Ketchikan Public Library
SUMMARY:What Happened in Craig: Alaska's Worst Unsolved Mass Murder
END:VEVENT
END:VCALENDAR
