BEGIN:VCALENDAR
VERSION:2.0
PRODID:-//www.ketchikanarts.org//NONSGML kigkonsult.se iCalcreator 2.30.10/
 /
CALSCALE:GREGORIAN
METHOD:PUBLISH
UID:4bccc87c-e85e-472a-8c44-7b42f943ffba
X-WR-CALDESC:Are you making a Wearable Art piece for the first time? Or hav
 e you been making pieces for years but still have a conundrum you just can
 't solve? Join veteran Wearable Artists for a question and answer session 
 and get all your questions answered!!!
X-WR-RELCALID:998d0b7eb3c4b62e4107a1a2400945f7
X-WR-TIMEZONE:America/Anchorage
BEGIN:VTIMEZONE
TZID:America/Anchorage
BEGIN:STANDARD
TZNAME:AKST
DTSTART:20181104T020000
TZOFFSETFROM:-0800
TZOFFSETTO:-0900
RDATE:20191103T020000
END:STANDARD
BEGIN:DAYLIGHT
TZNAME:AKDT
DTSTART:20180311T020000
TZOFFSETFROM:-0900
TZOFFSETTO:-0800
RDATE:20190310T020000
RDATE:20200308T020000
END:DAYLIGHT
END:VTIMEZONE
BEGIN:VEVENT
UID:eb12d210-809e-4a7b-a771-7e807e2b9c9a
DTSTAMP:20260423T025003Z
DESCRIPTION:Are you making a Wearable Art piece for the first time? Or have
  you been making pieces for years but still have a conundrum you just can'
 t solve? Join veteran Wearable Artists for a question and answer session a
 nd get all your questions answered!!!
DTSTART;TZID=America/Anchorage:20181114T173000
DTEND;TZID=America/Anchorage:20181114T193000
LOCATION:Main Street Gallery
SUMMARY:Wearable Art Show Q&A
END:VEVENT
END:VCALENDAR
