BEGIN:VCALENDAR
VERSION:2.0
PRODID:-//www.ketchikanarts.org//NONSGML kigkonsult.se iCalcreator 2.30.10/
 /
CALSCALE:GREGORIAN
METHOD:PUBLISH
UID:45eb09ce-1558-4fcf-b637-233305de360b
X-WR-CALDESC:Mon\, Tues\, Wed & Fri\, 6-9pm \nSat 10-4:30pm \n\nRegistratio
 n Fee: $175/$150 Materials: $45\nEarly notice required for additional dyed
  materials \n\nRenowned Haida weaver and expert instructor Holly Churchill
  will guide beginning students in learning and practicing foundational ced
 ar bark weaving methods. Students will learn basic twining as well as alte
 rnating color design and overlay techniques as they weave an open face ced
 ar bark basket. Churchill has created cedar bark and spruce root pieces fo
 r museums and collection across the globe\, and has shared her knowledge w
 ith weavers of all ages in Ketchikan and communities throughout the world 
 for over twenty years. \n\nThis class is a perquisite for all upper level 
 weaving classes.
X-WR-RELCALID:dc6997f1ea166e10175bf5d56503fe9c
X-WR-TIMEZONE:America/Anchorage
BEGIN:VTIMEZONE
TZID:America/Anchorage
BEGIN:STANDARD
TZNAME:AKST
DTSTART:20181104T020000
TZOFFSETFROM:-0800
TZOFFSETTO:-0900
RDATE:20191103T020000
END:STANDARD
BEGIN:DAYLIGHT
TZNAME:AKDT
DTSTART:20180311T020000
TZOFFSETFROM:-0900
TZOFFSETTO:-0800
RDATE:20190310T020000
RDATE:20200308T020000
END:DAYLIGHT
END:VTIMEZONE
BEGIN:VEVENT
UID:06320023-6f91-41b3-9ca6-de243b279abe
DTSTAMP:20260423T025115Z
DESCRIPTION:Mon\, Tues\, Wed & Fri\, 6-9pm \nSat 10-4:30pm \n\nRegistration
  Fee: $175/$150 Materials: $45\nEarly notice required for additional dyed 
 materials \n\nRenowned Haida weaver and expert instructor Holly Churchill 
 will guide beginning students in learning and practicing foundational ceda
 r bark weaving methods. Students will learn basic twining as well as alter
 nating color design and overlay techniques as they weave an open face ceda
 r bark basket. Churchill has created cedar bark and spruce root pieces for
  museums and collection across the globe\, and has shared her knowledge wi
 th weavers of all ages in Ketchikan and communities throughout the world f
 or over twenty years. \n\nThis class is a perquisite for all upper level w
 eaving classes.
DTSTART;TZID=America/Anchorage:20181114T180000
DTEND;TZID=America/Anchorage:20181114T210000
LOCATION:Totem Heritage Center
SUMMARY:Introduction to Cedar Bark Weaving
END:VEVENT
END:VCALENDAR
