BEGIN:VCALENDAR
VERSION:2.0
PRODID:-//www.ketchikanarts.org//NONSGML kigkonsult.se iCalcreator 2.30.10/
 /
CALSCALE:GREGORIAN
METHOD:PUBLISH
UID:c33f839b-f299-499c-8d91-805871a93706
X-WR-CALDESC:For the 2018 Fall musical First City Players presents 'Mamma M
 ia!' the ULTIMATE Feel-Good show!
X-WR-RELCALID:e03b9668de888bc9fe76cad0207fea35
X-WR-TIMEZONE:America/Anchorage
BEGIN:VTIMEZONE
TZID:America/Anchorage
BEGIN:STANDARD
TZNAME:AKST
DTSTART:20181104T020000
TZOFFSETFROM:-0800
TZOFFSETTO:-0900
RDATE:20191103T020000
END:STANDARD
BEGIN:DAYLIGHT
TZNAME:AKDT
DTSTART:20180311T020000
TZOFFSETFROM:-0900
TZOFFSETTO:-0800
RDATE:20190310T020000
RDATE:20200308T020000
END:DAYLIGHT
END:VTIMEZONE
BEGIN:VEVENT
UID:77249b34-2cc0-42d8-b418-5668281abf90
DTSTAMP:20260423T030021Z
DESCRIPTION:For the 2018 Fall musical First City Players presents 'Mamma Mi
 a!' the ULTIMATE Feel-Good show!
DTSTART;TZID=America/Anchorage:20181110T193000
DTEND;TZID=America/Anchorage:20181111T003000
LOCATION:Kayhi Auditorium
SUMMARY:First City Players presents: Mamma Mia!
END:VEVENT
END:VCALENDAR
