BEGIN:VCALENDAR
VERSION:2.0
PRODID:-//www.ketchikanarts.org//NONSGML kigkonsult.se iCalcreator 2.30.10/
 /
CALSCALE:GREGORIAN
METHOD:PUBLISH
UID:931e6744-b704-4f74-b9d0-80b73014388f
X-WR-CALDESC:For the 2018 Fall musical First City Players presents 'Mamma M
 ia!' the ULTIMATE Feel-Good show!
X-WR-RELCALID:ffeafa08b8913426759214a7ea1a4826
X-WR-TIMEZONE:America/Anchorage
BEGIN:VTIMEZONE
TZID:America/Anchorage
BEGIN:STANDARD
TZNAME:AKST
DTSTART:20181104T020000
TZOFFSETFROM:-0800
TZOFFSETTO:-0900
RDATE:20191103T020000
END:STANDARD
BEGIN:DAYLIGHT
TZNAME:AKDT
DTSTART:20180311T020000
TZOFFSETFROM:-0900
TZOFFSETTO:-0800
RDATE:20190310T020000
RDATE:20200308T020000
END:DAYLIGHT
END:VTIMEZONE
BEGIN:VEVENT
UID:7ab803ce-6a59-44f3-97a6-6cfdf3f682ca
DTSTAMP:20260423T025802Z
DESCRIPTION:For the 2018 Fall musical First City Players presents 'Mamma Mi
 a!' the ULTIMATE Feel-Good show!
DTSTART;TZID=America/Anchorage:20181109T193000
DTEND;TZID=America/Anchorage:20181109T233000
LOCATION:Kayhi Auditorium
SUMMARY:First City Players presents: Mamma Mia!
END:VEVENT
END:VCALENDAR
