BEGIN:VCALENDAR
VERSION:2.0
PRODID:-//www.ketchikanarts.org//NONSGML kigkonsult.se iCalcreator 2.30.10/
 /
CALSCALE:GREGORIAN
METHOD:PUBLISH
UID:6d590b72-f7bc-458f-8518-121bdbb863df
X-WR-CALDESC:
X-WR-RELCALID:1f10bf2be6a20be1d55b8cd4c723b441
X-WR-TIMEZONE:America/Anchorage
BEGIN:VTIMEZONE
TZID:America/Anchorage
BEGIN:STANDARD
TZNAME:AKST
DTSTART:20181104T020000
TZOFFSETFROM:-0800
TZOFFSETTO:-0900
RDATE:20191103T020000
END:STANDARD
BEGIN:DAYLIGHT
TZNAME:AKDT
DTSTART:20180311T020000
TZOFFSETFROM:-0900
TZOFFSETTO:-0800
RDATE:20190310T020000
RDATE:20200308T020000
END:DAYLIGHT
END:VTIMEZONE
BEGIN:VEVENT
UID:a6ccefdb-1db1-4525-a392-c56964bede5d
DTSTAMP:20260423T024510Z
DESCRIPTION:
DTSTART;TZID=America/Anchorage:20181108T183000
DTEND;TZID=America/Anchorage:20181108T200000
LOCATION:UAS Campus Library
SUMMARY:Ask UAS - 'The Empty Chair' with John Radzilowski
END:VEVENT
END:VCALENDAR
