BEGIN:VCALENDAR
VERSION:2.0
PRODID:-//www.ketchikanarts.org//NONSGML kigkonsult.se iCalcreator 2.30.10/
 /
CALSCALE:GREGORIAN
METHOD:PUBLISH
UID:aeaff9ec-1802-4a5d-a7c5-b3ae4b8353c9
X-WR-CALDESC:Join Matt Armstrong as he talks about building a fully realize
 d world for your characters to inhabit\, why it’s important\, and how to b
 uild a world through words!\n\nYou’re encouraged to bring something to wri
 te on and with\, or a computer. There’s also a suggested $5 donation to he
 lp offset the cost of the planned Spring 2019 Ketchikan Writes publication
 .
X-WR-RELCALID:242831897d10044c6d0ba12573a660de
X-WR-TIMEZONE:America/Anchorage
BEGIN:VTIMEZONE
TZID:America/Anchorage
BEGIN:STANDARD
TZNAME:AKST
DTSTART:20181104T020000
TZOFFSETFROM:-0800
TZOFFSETTO:-0900
RDATE:20191103T020000
END:STANDARD
BEGIN:DAYLIGHT
TZNAME:AKDT
DTSTART:20180311T020000
TZOFFSETFROM:-0900
TZOFFSETTO:-0800
RDATE:20190310T020000
RDATE:20200308T020000
END:DAYLIGHT
END:VTIMEZONE
BEGIN:VEVENT
UID:07191820-ff85-44c6-ae56-d6168acf8455
DTSTAMP:20260423T024501Z
DESCRIPTION:Join Matt Armstrong as he talks about building a fully realized
  world for your characters to inhabit\, why it’s important\, and how to bu
 ild a world through words!\n\nYou’re encouraged to bring something to writ
 e on and with\, or a computer. There’s also a suggested $5 donation to hel
 p offset the cost of the planned Spring 2019 Ketchikan Writes publication.
DTSTART;TZID=America/Anchorage:20181107T183000
DTEND;TZID=America/Anchorage:20181107T200000
LOCATION:First City Players - 335 Main Street
SUMMARY:World Building in Fiction
END:VEVENT
END:VCALENDAR
