BEGIN:VCALENDAR
VERSION:2.0
PRODID:-//www.ketchikanarts.org//NONSGML kigkonsult.se iCalcreator 2.30.10/
 /
CALSCALE:GREGORIAN
METHOD:PUBLISH
UID:62eadb08-eb53-40c5-9403-a850aa0b0948
X-WR-CALDESC:The Board of Director's of KRBD meet monthly at the station be
 ginning at 5:30pm\, on the first Wednesday of the month. This meeting is t
 o discuss the workings of the radio station.
X-WR-RELCALID:eefa79f3c0d166ff144b7659d54f4166
X-WR-TIMEZONE:America/Anchorage
BEGIN:VTIMEZONE
TZID:America/Anchorage
BEGIN:STANDARD
TZNAME:AKST
DTSTART:20181104T020000
TZOFFSETFROM:-0800
TZOFFSETTO:-0900
RDATE:20191103T020000
END:STANDARD
BEGIN:DAYLIGHT
TZNAME:AKDT
DTSTART:20180311T020000
TZOFFSETFROM:-0900
TZOFFSETTO:-0800
RDATE:20190310T020000
RDATE:20200308T020000
END:DAYLIGHT
END:VTIMEZONE
BEGIN:VEVENT
UID:40cf25d1-3886-4d58-b520-e4032b6d88e5
DTSTAMP:20260423T030751Z
DESCRIPTION:The Board of Director's of KRBD meet monthly at the station beg
 inning at 5:30pm\, on the first Wednesday of the month. This meeting is to
  discuss the workings of the radio station.
DTSTART;TZID=America/Anchorage:20181107T173000
DTEND;TZID=America/Anchorage:20181107T190000
LOCATION:KRBD Station
SUMMARY:KRBD Ketchikan Community Radio - Board of Directors' Meeting
END:VEVENT
END:VCALENDAR
