BEGIN:VCALENDAR
VERSION:2.0
PRODID:-//www.ketchikanarts.org//NONSGML kigkonsult.se iCalcreator 2.30.10/
 /
CALSCALE:GREGORIAN
METHOD:PUBLISH
UID:cee374c1-a6d1-4d92-b4e5-a98fa2dd5057
X-WR-CALDESC:For the 2018 Fall musical First City Players presents 'Mamma M
 ia!' the ULTIMATE Feel-Good show!
X-WR-RELCALID:81a1e31f8f227287300cfea07152a116
X-WR-TIMEZONE:America/Los_Angeles
BEGIN:VTIMEZONE
TZID:America/Los_Angeles
BEGIN:STANDARD
TZNAME:PST
DTSTART:20171105T020000
TZOFFSETFROM:-0700
TZOFFSETTO:-0800
RDATE:20181104T020000
RDATE:20191103T020000
END:STANDARD
BEGIN:DAYLIGHT
TZNAME:PDT
DTSTART:20180311T020000
TZOFFSETFROM:-0800
TZOFFSETTO:-0700
RDATE:20190310T020000
RDATE:20200308T020000
END:DAYLIGHT
END:VTIMEZONE
BEGIN:VEVENT
UID:ed07003b-3fcd-4c2e-8c07-f3b0f88bbe70
DTSTAMP:20260423T025711Z
DESCRIPTION:For the 2018 Fall musical First City Players presents 'Mamma Mi
 a!' the ULTIMATE Feel-Good show!
DTSTART;TZID=America/Los_Angeles:20181104T143000
DTEND;TZID=America/Los_Angeles:20181104T163000
LOCATION:Kayhi Auditorium
SUMMARY:First City Players presents: Mamma Mia!
END:VEVENT
END:VCALENDAR
