BEGIN:VCALENDAR
VERSION:2.0
PRODID:-//www.ketchikanarts.org//NONSGML kigkonsult.se iCalcreator 2.30.10/
 /
CALSCALE:GREGORIAN
METHOD:PUBLISH
UID:d91a9192-2419-43f5-a909-484092da163e
X-WR-CALDESC:The Ketchikan Public Library & Ketchikan Museums invite you to
  a presentation and reception with author John Tippets\, whose book 'Heart
 s of Courage' recounts the 1943 Gillam plane crash in Misty Fjords.
X-WR-RELCALID:2c3d2c3c115dd852ec5d076e883b32c0
X-WR-TIMEZONE:America/Anchorage
BEGIN:VTIMEZONE
TZID:America/Anchorage
BEGIN:STANDARD
TZNAME:AKST
DTSTART:20171105T020000
TZOFFSETFROM:-0800
TZOFFSETTO:-0900
RDATE:20181104T020000
RDATE:20191103T020000
END:STANDARD
BEGIN:DAYLIGHT
TZNAME:AKDT
DTSTART:20180311T020000
TZOFFSETFROM:-0900
TZOFFSETTO:-0800
RDATE:20190310T020000
RDATE:20200308T020000
END:DAYLIGHT
END:VTIMEZONE
BEGIN:VEVENT
UID:f49c59ba-c51b-4e02-b48b-91de3bd6683f
DTSTAMP:20260423T025035Z
DESCRIPTION:The Ketchikan Public Library & Ketchikan Museums invite you to 
 a presentation and reception with author John Tippets\, whose book 'Hearts
  of Courage' recounts the 1943 Gillam plane crash in Misty Fjords.
DTSTART;TZID=America/Anchorage:20181103T150000
DTEND;TZID=America/Anchorage:20181103T160000
LOCATION:
SUMMARY:Heart of Courage - Author Presentation
END:VEVENT
END:VCALENDAR
