BEGIN:VCALENDAR
VERSION:2.0
PRODID:-//www.ketchikanarts.org//NONSGML kigkonsult.se iCalcreator 2.30.10/
 /
CALSCALE:GREGORIAN
METHOD:PUBLISH
UID:b1384fb6-35e6-4ae5-afde-41cb1d1ded6d
X-WR-CALDESC:For the 2018 Fall musical First City Players presents 'Mamma M
 ia!' the ULTIMATE Feel-Good show!
X-WR-RELCALID:fd231bb70b1cf221dde9d966d5ac5f62
X-WR-TIMEZONE:America/Los_Angeles
BEGIN:VTIMEZONE
TZID:America/Los_Angeles
BEGIN:STANDARD
TZNAME:PST
DTSTART:20171105T020000
TZOFFSETFROM:-0700
TZOFFSETTO:-0800
RDATE:20181104T020000
RDATE:20191103T020000
END:STANDARD
BEGIN:DAYLIGHT
TZNAME:PDT
DTSTART:20180311T020000
TZOFFSETFROM:-0800
TZOFFSETTO:-0700
RDATE:20190310T020000
RDATE:20200308T020000
END:DAYLIGHT
END:VTIMEZONE
BEGIN:VEVENT
UID:3caa3209-8d2f-4ea8-a91c-2cf2b95c0092
DTSTAMP:20260423T025903Z
DESCRIPTION:For the 2018 Fall musical First City Players presents 'Mamma Mi
 a!' the ULTIMATE Feel-Good show!
DTSTART;TZID=America/Los_Angeles:20181103T193000
DTEND;TZID=America/Los_Angeles:20181103T233000
LOCATION:Kayhi Auditorium
SUMMARY:First City Players presents: Mamma Mia!
END:VEVENT
END:VCALENDAR
