BEGIN:VCALENDAR
VERSION:2.0
PRODID:-//www.ketchikanarts.org//NONSGML kigkonsult.se iCalcreator 2.30.10/
 /
CALSCALE:GREGORIAN
METHOD:PUBLISH
UID:9d19ed1a-42f8-4941-97d1-79036254f2da
X-WR-CALDESC:November 2-30\, 2018: Manifest X\n\nA collaboration by artists
  Jackson Polys & Robert Mills to create “new activations of ceremonial ite
 ms” as “Indigenous people negotiating the complexities of settler colonial
 ism”.\n\nMain Street Gallery Openings are free and open to the public. \n
X-WR-RELCALID:d6dd3b15cbfa11cb965d7ae5e55cebcc
X-WR-TIMEZONE:America/Anchorage
BEGIN:VTIMEZONE
TZID:America/Anchorage
BEGIN:STANDARD
TZNAME:AKST
DTSTART:20171105T020000
TZOFFSETFROM:-0800
TZOFFSETTO:-0900
RDATE:20181104T020000
RDATE:20191103T020000
END:STANDARD
BEGIN:DAYLIGHT
TZNAME:AKDT
DTSTART:20180311T020000
TZOFFSETFROM:-0900
TZOFFSETTO:-0800
RDATE:20190310T020000
RDATE:20200308T020000
END:DAYLIGHT
END:VTIMEZONE
BEGIN:VEVENT
UID:8b40bc3c-e391-4925-bfbe-8aa17ecc9ff7
DTSTAMP:20260423T024331Z
DESCRIPTION:November 2-30\, 2018: Manifest X\n\nA collaboration by artists 
 Jackson Polys & Robert Mills to create “new activations of ceremonial item
 s” as “Indigenous people negotiating the complexities of settler coloniali
 sm”.\n\nMain Street Gallery Openings are free and open to the public. \n
DTSTART;TZID=America/Anchorage:20181102T170000
DTEND;TZID=America/Anchorage:20181102T190000
LOCATION:Main Street Gallery
SUMMARY:Opening Reception - 'Manifest X'
END:VEVENT
END:VCALENDAR
