BEGIN:VCALENDAR
VERSION:2.0
PRODID:-//www.ketchikanarts.org//NONSGML kigkonsult.se iCalcreator 2.30.10/
 /
CALSCALE:GREGORIAN
METHOD:PUBLISH
UID:66c29dda-33cc-43c5-9bdd-7387e50dc670
X-WR-CALDESC:
X-WR-RELCALID:bca57fdf73655fddb5ec6879822497c1
X-WR-TIMEZONE:America/Anchorage
BEGIN:VTIMEZONE
TZID:America/Anchorage
BEGIN:STANDARD
TZNAME:AKST
DTSTART:20171105T020000
TZOFFSETFROM:-0800
TZOFFSETTO:-0900
RDATE:20181104T020000
RDATE:20191103T020000
END:STANDARD
BEGIN:DAYLIGHT
TZNAME:AKDT
DTSTART:20180311T020000
TZOFFSETFROM:-0900
TZOFFSETTO:-0800
RDATE:20190310T020000
RDATE:20200308T020000
END:DAYLIGHT
END:VTIMEZONE
BEGIN:VEVENT
UID:0086ba88-09ad-46b0-bb7e-cfe2251a1760
DTSTAMP:20260423T025705Z
DESCRIPTION:
DTSTART;TZID=America/Anchorage:20181102T193000
DTEND;TZID=America/Anchorage:20181102T223000
LOCATION:Kayhi Auditorium
SUMMARY:First City Players presents: Mamma Mia!
END:VEVENT
END:VCALENDAR
