BEGIN:VCALENDAR
VERSION:2.0
PRODID:-//www.ketchikanarts.org//NONSGML kigkonsult.se iCalcreator 2.30.10/
 /
CALSCALE:GREGORIAN
METHOD:PUBLISH
UID:061714c6-b0f0-4188-b112-136b96df7ecf
X-WR-CALDESC:Bring your writing project and work alongside colleagues to re
 fine and grow your writing skills!
X-WR-RELCALID:bb06b086cdbf60933a83b4622fcc8cc4
X-WR-TIMEZONE:America/Anchorage
BEGIN:VTIMEZONE
TZID:America/Anchorage
BEGIN:STANDARD
TZNAME:AKST
DTSTART:20171105T020000
TZOFFSETFROM:-0800
TZOFFSETTO:-0900
RDATE:20181104T020000
RDATE:20191103T020000
END:STANDARD
BEGIN:DAYLIGHT
TZNAME:AKDT
DTSTART:20180311T020000
TZOFFSETFROM:-0900
TZOFFSETTO:-0800
RDATE:20190310T020000
RDATE:20200308T020000
END:DAYLIGHT
END:VTIMEZONE
BEGIN:VEVENT
UID:ac32c977-f696-4ab1-b9b6-f2939a672e96
DTSTAMP:20260423T043346Z
DESCRIPTION:Bring your writing project and work alongside colleagues to ref
 ine and grow your writing skills!
DTSTART;TZID=America/Anchorage:20181031T153000
DTEND;TZID=America/Anchorage:20181031T193000
LOCATION:Ketchikan Public Library
SUMMARY:Fellowship of the Pen
END:VEVENT
END:VCALENDAR
