BEGIN:VCALENDAR
VERSION:2.0
PRODID:-//www.ketchikanarts.org//NONSGML kigkonsult.se iCalcreator 2.30.10/
 /
CALSCALE:GREGORIAN
METHOD:PUBLISH
UID:ce4132dd-9733-49b4-ab6e-eaad4711306d
X-WR-CALDESC:KRBD's Annual Halloween Party at the Cape Fox Lodge is a MUST!
 ! Get your costume together to WOW the judges - but make sure you can danc
 e in it because there's a dance contest too!  Lots of Halloween-themed foo
 d and a no host bar. \n\nTickets are $15 at the door. \n\nCostumes\, danci
 ng\, and supporting your local public radio station. That's the way to spe
 nd an evening!
X-WR-RELCALID:151bcfe4ebb414d3863fe88e2e10c615
X-WR-TIMEZONE:America/Anchorage
BEGIN:VTIMEZONE
TZID:America/Anchorage
BEGIN:STANDARD
TZNAME:AKST
DTSTART:20171105T020000
TZOFFSETFROM:-0800
TZOFFSETTO:-0900
RDATE:20181104T020000
RDATE:20191103T020000
END:STANDARD
BEGIN:DAYLIGHT
TZNAME:AKDT
DTSTART:20180311T020000
TZOFFSETFROM:-0900
TZOFFSETTO:-0800
RDATE:20190310T020000
RDATE:20200308T020000
END:DAYLIGHT
END:VTIMEZONE
BEGIN:VEVENT
UID:b828afb7-410f-43a2-af0e-15a98ee1e433
DTSTAMP:20260423T042846Z
DESCRIPTION:KRBD's Annual Halloween Party at the Cape Fox Lodge is a MUST!!
  Get your costume together to WOW the judges - but make sure you can dance
  in it because there's a dance contest too!  Lots of Halloween-themed food
  and a no host bar. \n\nTickets are $15 at the door. \n\nCostumes\, dancin
 g\, and supporting your local public radio station. That's the way to spen
 d an evening!
DTSTART;TZID=America/Anchorage:20181027T200000
DTEND;TZID=America/Anchorage:20181028T000000
LOCATION:Cape Fox Lodge
SUMMARY:Annual KRBD Halloween Party
END:VEVENT
END:VCALENDAR
