BEGIN:VCALENDAR
VERSION:2.0
PRODID:-//www.ketchikanarts.org//NONSGML kigkonsult.se iCalcreator 2.30.10/
 /
CALSCALE:GREGORIAN
METHOD:PUBLISH
UID:5f228839-c8ac-4a1f-b831-852674e223bc
X-WR-CALDESC:Schoenbar Middle School Concert
X-WR-RELCALID:7f061096d3bb2c5ff38521a6c19e782c
X-WR-TIMEZONE:America/Anchorage
BEGIN:VTIMEZONE
TZID:America/Anchorage
BEGIN:STANDARD
TZNAME:AKST
DTSTART:20171105T020000
TZOFFSETFROM:-0800
TZOFFSETTO:-0900
RDATE:20181104T020000
RDATE:20191103T020000
END:STANDARD
BEGIN:DAYLIGHT
TZNAME:AKDT
DTSTART:20180311T020000
TZOFFSETFROM:-0900
TZOFFSETTO:-0800
RDATE:20190310T020000
RDATE:20200308T020000
END:DAYLIGHT
END:VTIMEZONE
BEGIN:VEVENT
UID:7e01a71b-a395-42fb-8800-c3395bd48323
DTSTAMP:20260423T043112Z
DESCRIPTION:Schoenbar Middle School Concert
DTSTART;TZID=America/Anchorage:20181026T180000
DTEND;TZID=America/Anchorage:20181026T200000
LOCATION:
SUMMARY:Songs for Your Supper Dinner Concert
END:VEVENT
END:VCALENDAR
