BEGIN:VCALENDAR
VERSION:2.0
PRODID:-//www.ketchikanarts.org//NONSGML kigkonsult.se iCalcreator 2.30.10/
 /
CALSCALE:GREGORIAN
METHOD:PUBLISH
UID:9e5295a5-e834-4693-9b12-e12dc2974de1
X-WR-CALDESC:
X-WR-RELCALID:328eb61f4e40f67cf1a14730133b5204
X-WR-TIMEZONE:America/Anchorage
BEGIN:VTIMEZONE
TZID:America/Anchorage
BEGIN:STANDARD
TZNAME:AKST
DTSTART:20171105T020000
TZOFFSETFROM:-0800
TZOFFSETTO:-0900
RDATE:20181104T020000
RDATE:20191103T020000
END:STANDARD
BEGIN:DAYLIGHT
TZNAME:AKDT
DTSTART:20180311T020000
TZOFFSETFROM:-0900
TZOFFSETTO:-0800
RDATE:20190310T020000
RDATE:20200308T020000
END:DAYLIGHT
END:VTIMEZONE
BEGIN:VEVENT
UID:a67e24cc-8345-4cbe-936f-01e9e6b580c1
DTSTAMP:20260423T043131Z
DESCRIPTION:
DTSTART;TZID=America/Anchorage:20181025T183000
DTEND;TZID=America/Anchorage:20181025T200000
LOCATION:UAS Campus Library
SUMMARY:Ask UAS - 'Seaweed Farming in Alaska' with Gary Freitag
END:VEVENT
END:VCALENDAR
