BEGIN:VCALENDAR
VERSION:2.0
PRODID:-//www.ketchikanarts.org//NONSGML kigkonsult.se iCalcreator 2.30.10/
 /
CALSCALE:GREGORIAN
METHOD:PUBLISH
UID:04ec2d84-d04a-4394-9b3e-4cb68c48fff4
X-WR-CALDESC:
X-WR-RELCALID:6af4f268329c126b0d4609ba9694cb55
X-WR-TIMEZONE:America/Anchorage
BEGIN:VTIMEZONE
TZID:America/Anchorage
BEGIN:STANDARD
TZNAME:AKST
DTSTART:20171105T020000
TZOFFSETFROM:-0800
TZOFFSETTO:-0900
RDATE:20181104T020000
RDATE:20191103T020000
END:STANDARD
BEGIN:DAYLIGHT
TZNAME:AKDT
DTSTART:20180311T020000
TZOFFSETFROM:-0900
TZOFFSETTO:-0800
RDATE:20190310T020000
RDATE:20200308T020000
END:DAYLIGHT
END:VTIMEZONE
BEGIN:VEVENT
UID:75c4d759-d039-4cda-baca-0c37766e2f81
DTSTAMP:20260423T042807Z
DESCRIPTION:
DTSTART;TZID=America/Anchorage:20181020T160000
DTEND;TZID=America/Anchorage:20181020T180000
LOCATION:Kayhi Auditorium
SUMMARY:Studio Max Fall Recital - 'Spooky School Daze'
END:VEVENT
END:VCALENDAR
