BEGIN:VCALENDAR
VERSION:2.0
PRODID:-//www.ketchikanarts.org//NONSGML kigkonsult.se iCalcreator 2.30.10/
 /
CALSCALE:GREGORIAN
METHOD:PUBLISH
UID:e8fd0d60-95c8-41d4-aab2-d5e4c5c01f00
X-WR-CALDESC:NEW DATE!!!!!!!!!!! Changed from Oct. 6th to Oct. 19th\n\nBeer
  & Brats – Bend your Elbow\, Grill a Brat and help support the Arts!\nOcto
 ber 19th\, 2018\nCreek Street Cabaret\n\nJoin the Arts Council\, Bawden St
 reet Brewing\, Tatsuda’s IGA and Creek Street Cabaret in a mini “October F
 est” Beer & Brats tasting. Fashioned after our popular Wine and Cheese Tas
 ting fundraising events\, our new Beer & Brats will feature Ketchikan’s ne
 west brewery – Bawden Street Brewing – and an assortment delicious brats s
 elected by Tatsuda’s own Joe Stollar. \n\nBrew Master Sean Heisman will fe
 ature four beers he has created RIGHT HERE IN KETCHIKAN including one styl
 e that is unavailable in the United States except through microbreweries! 
 Sean has selected these styles to pair with our brats. Following the tasti
 ng\, feel free to join Sean back at Bawden Street Brewing for a short tour
  of the brewery and to purchase growlers\, bottles or cans of your favorit
 e style!\n
X-WR-RELCALID:7bfc7115a6c34a999d0976675e2ec63e
X-WR-TIMEZONE:America/Anchorage
BEGIN:VTIMEZONE
TZID:America/Anchorage
BEGIN:STANDARD
TZNAME:AKST
DTSTART:20171105T020000
TZOFFSETFROM:-0800
TZOFFSETTO:-0900
RDATE:20181104T020000
RDATE:20191103T020000
END:STANDARD
BEGIN:DAYLIGHT
TZNAME:AKDT
DTSTART:20180311T020000
TZOFFSETFROM:-0900
TZOFFSETTO:-0800
RDATE:20190310T020000
RDATE:20200308T020000
END:DAYLIGHT
END:VTIMEZONE
BEGIN:VEVENT
UID:ad94d0aa-70fe-436d-bf66-51dba1eb8bb2
DTSTAMP:20260423T042845Z
DESCRIPTION:NEW DATE!!!!!!!!!!! Changed from Oct. 6th to Oct. 19th\n\nBeer 
 & Brats – Bend your Elbow\, Grill a Brat and help support the Arts!\nOctob
 er 19th\, 2018\nCreek Street Cabaret\n\nJoin the Arts Council\, Bawden Str
 eet Brewing\, Tatsuda’s IGA and Creek Street Cabaret in a mini “October Fe
 st” Beer & Brats tasting. Fashioned after our popular Wine and Cheese Tast
 ing fundraising events\, our new Beer & Brats will feature Ketchikan’s new
 est brewery – Bawden Street Brewing – and an assortment delicious brats se
 lected by Tatsuda’s own Joe Stollar. \n\nBrew Master Sean Heisman will fea
 ture four beers he has created RIGHT HERE IN KETCHIKAN including one style
  that is unavailable in the United States except through microbreweries! S
 ean has selected these styles to pair with our brats. Following the tastin
 g\, feel free to join Sean back at Bawden Street Brewing for a short tour 
 of the brewery and to purchase growlers\, bottles or cans of your favorite
  style!\n
DTSTART;TZID=America/Anchorage:20181019T180000
DTEND;TZID=America/Anchorage:20181019T200000
LOCATION:Creek Street Cabaret and Bawden Street Brewery
SUMMARY:KAAHC 'Beer and Brats' Fundraiser
END:VEVENT
END:VCALENDAR
