BEGIN:VCALENDAR
VERSION:2.0
PRODID:-//www.ketchikanarts.org//NONSGML kigkonsult.se iCalcreator 2.30.10/
 /
CALSCALE:GREGORIAN
METHOD:PUBLISH
UID:695295e4-5f87-469e-ac77-c02eab861be8
X-WR-CALDESC:Feel encouraged to wear your Regalia!! Contemporary or traditi
 onal regalia is welcome!  This is the first Native Regalia Fashion Show in
  Ketchikan. If you would like to participate please contact ANB/ANS Camp 1
 4 through their Facebook page link below!!
X-WR-RELCALID:01a97013422ff268a4f7a1c9847ef632
X-WR-TIMEZONE:America/Anchorage
BEGIN:VTIMEZONE
TZID:America/Anchorage
BEGIN:STANDARD
TZNAME:AKST
DTSTART:20171105T020000
TZOFFSETFROM:-0800
TZOFFSETTO:-0900
RDATE:20181104T020000
RDATE:20191103T020000
END:STANDARD
BEGIN:DAYLIGHT
TZNAME:AKDT
DTSTART:20180311T020000
TZOFFSETFROM:-0900
TZOFFSETTO:-0800
RDATE:20190310T020000
RDATE:20200308T020000
END:DAYLIGHT
END:VTIMEZONE
BEGIN:VEVENT
UID:8998d04b-ff22-4e31-b822-60958e1ef1e3
DTSTAMP:20260423T043132Z
DESCRIPTION:Feel encouraged to wear your Regalia!! Contemporary or traditio
 nal regalia is welcome!  This is the first Native Regalia Fashion Show in 
 Ketchikan. If you would like to participate please contact ANB/ANS Camp 14
  through their Facebook page link below!!
DTSTART;TZID=America/Anchorage:20181017T183000
DTEND;TZID=America/Anchorage:20181017T210000
LOCATION:Ted Ferry Civic Center
SUMMARY:Native Regalia Fashion Show
END:VEVENT
END:VCALENDAR
