BEGIN:VCALENDAR
VERSION:2.0
PRODID:-//www.ketchikanarts.org//NONSGML kigkonsult.se iCalcreator 2.30.10/
 /
CALSCALE:GREGORIAN
METHOD:PUBLISH
UID:3b0ad0c3-e04f-4efb-b30c-61348f132499
X-WR-CALDESC:
X-WR-RELCALID:a1d1d54721afb9760bc7da83e1b91d14
X-WR-TIMEZONE:America/Anchorage
BEGIN:VTIMEZONE
TZID:America/Anchorage
BEGIN:STANDARD
TZNAME:AKST
DTSTART:20171105T020000
TZOFFSETFROM:-0800
TZOFFSETTO:-0900
RDATE:20181104T020000
RDATE:20191103T020000
END:STANDARD
BEGIN:DAYLIGHT
TZNAME:AKDT
DTSTART:20180311T020000
TZOFFSETFROM:-0900
TZOFFSETTO:-0800
RDATE:20190310T020000
RDATE:20200308T020000
END:DAYLIGHT
END:VTIMEZONE
BEGIN:VEVENT
UID:824eb9da-be39-4f25-adb9-4345dea434c4
DTSTAMP:20260423T042845Z
DESCRIPTION:
DTSTART;TZID=America/Anchorage:20181017T190000
DTEND;TZID=America/Anchorage:20181017T200000
LOCATION:
SUMMARY:Kayhi Fall Band Concert
END:VEVENT
END:VCALENDAR
