BEGIN:VCALENDAR
VERSION:2.0
PRODID:-//www.ketchikanarts.org//NONSGML kigkonsult.se iCalcreator 2.30.10/
 /
CALSCALE:GREGORIAN
METHOD:PUBLISH
UID:469e5d23-c215-4ffe-9786-725c4c5ffff7
X-WR-CALDESC:
X-WR-RELCALID:4b9c6e492a5e49a8786defbaeed2ef76
X-WR-TIMEZONE:America/Anchorage
BEGIN:VTIMEZONE
TZID:America/Anchorage
BEGIN:STANDARD
TZNAME:AKST
DTSTART:20171105T020000
TZOFFSETFROM:-0800
TZOFFSETTO:-0900
RDATE:20181104T020000
RDATE:20191103T020000
END:STANDARD
BEGIN:DAYLIGHT
TZNAME:AKDT
DTSTART:20180311T020000
TZOFFSETFROM:-0900
TZOFFSETTO:-0800
RDATE:20190310T020000
RDATE:20200308T020000
END:DAYLIGHT
END:VTIMEZONE
BEGIN:VEVENT
UID:10811fdb-0dc2-4313-b1d0-dc095ab0b280
DTSTAMP:20260423T042957Z
DESCRIPTION:
DTSTART;TZID=America/Anchorage:20181016T190000
DTEND;TZID=America/Anchorage:20181016T220000
LOCATION:Kayhi Auditorium
SUMMARY:Kayhi Band Concert
END:VEVENT
END:VCALENDAR
