BEGIN:VCALENDAR
VERSION:2.0
PRODID:-//www.ketchikanarts.org//NONSGML kigkonsult.se iCalcreator 2.30.10/
 /
CALSCALE:GREGORIAN
METHOD:PUBLISH
UID:f0d9dd64-4511-413a-b237-1ed830e3eae0
X-WR-CALDESC:The Ketchikan Community Concert Band meets each Monday evening
  from 7 to 8:30 pm. Directed by Roy McPherson\, the Band performs 3 times 
 annually. If you  are interested in being in the band pleas call Roy at 90
 7-225-3650. \n\nThe Spring performance is January 12th at the Kayhi Audito
 rium at 3pm. Tickets are $15 for adults and youth under 18 are free.
X-WR-RELCALID:db3a435ca1733135e4f437193fae885e
X-WR-TIMEZONE:America/Anchorage
BEGIN:VTIMEZONE
TZID:America/Anchorage
BEGIN:STANDARD
TZNAME:AKST
DTSTART:20171105T020000
TZOFFSETFROM:-0800
TZOFFSETTO:-0900
RDATE:20181104T020000
RDATE:20191103T020000
END:STANDARD
BEGIN:DAYLIGHT
TZNAME:AKDT
DTSTART:20180311T020000
TZOFFSETFROM:-0900
TZOFFSETTO:-0800
RDATE:20190310T020000
RDATE:20200308T020000
END:DAYLIGHT
END:VTIMEZONE
BEGIN:VEVENT
UID:4c2ac7e8-e1ce-4898-b385-b7baee534195
DTSTAMP:20260423T043355Z
DESCRIPTION:The Ketchikan Community Concert Band meets each Monday evening 
 from 7 to 8:30 pm. Directed by Roy McPherson\, the Band performs 3 times a
 nnually. If you  are interested in being in the band pleas call Roy at 907
 -225-3650. \n\nThe Spring performance is January 12th at the Kayhi Auditor
 ium at 3pm. Tickets are $15 for adults and youth under 18 are free.
DTSTART;TZID=America/Anchorage:20181015T190000
DTEND;TZID=America/Anchorage:20181015T203000
LOCATION:The Plaza Mall - Band Room
SUMMARY:Ketchikan Community Concert Band Rehearsal
END:VEVENT
END:VCALENDAR
