BEGIN:VCALENDAR
VERSION:2.0
PRODID:-//www.ketchikanarts.org//NONSGML kigkonsult.se iCalcreator 2.30.10/
 /
CALSCALE:GREGORIAN
METHOD:PUBLISH
UID:f1d778ca-f515-40aa-bf92-671ba7fe76f0
X-WR-CALDESC:Each week participants will discuss a short reading. Call 225-
 3331 for more information.
X-WR-RELCALID:0474bf8cf7221977d68a19a0101c6098
X-WR-TIMEZONE:America/Anchorage
BEGIN:VTIMEZONE
TZID:America/Anchorage
BEGIN:STANDARD
TZNAME:AKST
DTSTART:20171105T020000
TZOFFSETFROM:-0800
TZOFFSETTO:-0900
RDATE:20181104T020000
RDATE:20191103T020000
END:STANDARD
BEGIN:DAYLIGHT
TZNAME:AKDT
DTSTART:20180311T020000
TZOFFSETFROM:-0900
TZOFFSETTO:-0800
RDATE:20190310T020000
RDATE:20200308T020000
END:DAYLIGHT
END:VTIMEZONE
BEGIN:VEVENT
UID:b53fba35-b13f-4917-8328-a1d0845711d7
DTSTAMP:20260423T042947Z
DESCRIPTION:Each week participants will discuss a short reading. Call 225-3
 331 for more information.
DTSTART;TZID=America/Anchorage:20181015T120000
DTEND;TZID=America/Anchorage:20181015T130000
LOCATION:Ketchikan Public Library
SUMMARY:Social Justice Reading Group
END:VEVENT
END:VCALENDAR
