BEGIN:VCALENDAR
VERSION:2.0
PRODID:-//www.ketchikanarts.org//NONSGML kigkonsult.se iCalcreator 2.30.10/
 /
CALSCALE:GREGORIAN
METHOD:PUBLISH
UID:c822b098-1879-45f3-8e8b-e3cbab7f25d4
X-WR-CALDESC:Kayhi's Annual Senior Carnival will be held on Saturday\, Octo
 ber 13th from 4:00-8:00! Tickets for the various booths will be sold on th
 e day of the event and will be $.50 a ticket.\n\nCome support the Class of
  2019
X-WR-RELCALID:2635843d8662eceb61ffc0d7de645915
X-WR-TIMEZONE:America/Anchorage
BEGIN:VTIMEZONE
TZID:America/Anchorage
BEGIN:STANDARD
TZNAME:AKST
DTSTART:20171105T020000
TZOFFSETFROM:-0800
TZOFFSETTO:-0900
RDATE:20181104T020000
RDATE:20191103T020000
END:STANDARD
BEGIN:DAYLIGHT
TZNAME:AKDT
DTSTART:20180311T020000
TZOFFSETFROM:-0900
TZOFFSETTO:-0800
RDATE:20190310T020000
RDATE:20200308T020000
END:DAYLIGHT
END:VTIMEZONE
BEGIN:VEVENT
UID:da4c4ace-bcfe-4787-975d-02f9e55d88aa
DTSTAMP:20260423T043003Z
DESCRIPTION:Kayhi's Annual Senior Carnival will be held on Saturday\, Octob
 er 13th from 4:00-8:00! Tickets for the various booths will be sold on the
  day of the event and will be $.50 a ticket.\n\nCome support the Class of 
 2019
DTSTART;TZID=America/Anchorage:20181013T160000
DTEND;TZID=America/Anchorage:20181013T200000
LOCATION:Kayhi Auditorium
SUMMARY:Kayhi Senior Carnival
END:VEVENT
END:VCALENDAR
