BEGIN:VCALENDAR
VERSION:2.0
PRODID:-//www.ketchikanarts.org//NONSGML kigkonsult.se iCalcreator 2.30.10/
 /
CALSCALE:GREGORIAN
METHOD:PUBLISH
UID:ad208cd0-8ec5-4b0f-8df8-b1e5947ffacb
X-WR-CALDESC:Join us for the 23rd annual Alaska Day Auction to benefit the 
 children of Holy Name School. One of the original auctions in Ketchikan\, 
 this is a night you do not want to miss! A community favorite event\, ther
 e is something for everyone. Ticket includes a delicious dinner by Annabel
 le's\, open bar\, and entry into the door prize. Wow! Childcare available 
 at Holy Name School. Call or stop by for tickets
X-WR-RELCALID:75f2c07933ba46421219201bde7df1c2
X-WR-TIMEZONE:America/Anchorage
BEGIN:VTIMEZONE
TZID:America/Anchorage
BEGIN:STANDARD
TZNAME:AKST
DTSTART:20171105T020000
TZOFFSETFROM:-0800
TZOFFSETTO:-0900
RDATE:20181104T020000
RDATE:20191103T020000
END:STANDARD
BEGIN:DAYLIGHT
TZNAME:AKDT
DTSTART:20180311T020000
TZOFFSETFROM:-0900
TZOFFSETTO:-0800
RDATE:20190310T020000
RDATE:20200308T020000
END:DAYLIGHT
END:VTIMEZONE
BEGIN:VEVENT
UID:608c609e-899b-455c-a270-01b829bcdf15
DTSTAMP:20260423T042954Z
DESCRIPTION:Join us for the 23rd annual Alaska Day Auction to benefit the c
 hildren of Holy Name School. One of the original auctions in Ketchikan\, t
 his is a night you do not want to miss! A community favorite event\, there
  is something for everyone. Ticket includes a delicious dinner by Annabell
 e's\, open bar\, and entry into the door prize. Wow! Childcare available a
 t Holy Name School. Call or stop by for tickets
DTSTART;TZID=America/Anchorage:20181013T170000
DTEND;TZID=America/Anchorage:20181013T213000
LOCATION:Ted Ferry Civic Center
SUMMARY:Holy Name School Alaska Day Auction
END:VEVENT
END:VCALENDAR
