BEGIN:VCALENDAR
VERSION:2.0
PRODID:-//www.ketchikanarts.org//NONSGML kigkonsult.se iCalcreator 2.30.10/
 /
CALSCALE:GREGORIAN
METHOD:PUBLISH
UID:5b610448-d40a-492f-972a-cbf9813a81ba
X-WR-CALDESC:
X-WR-RELCALID:f03024639a51597f6dce494ddde493ad
X-WR-TIMEZONE:America/Anchorage
BEGIN:VTIMEZONE
TZID:America/Anchorage
BEGIN:STANDARD
TZNAME:AKST
DTSTART:20171105T020000
TZOFFSETFROM:-0800
TZOFFSETTO:-0900
RDATE:20181104T020000
RDATE:20191103T020000
END:STANDARD
BEGIN:DAYLIGHT
TZNAME:AKDT
DTSTART:20180311T020000
TZOFFSETFROM:-0900
TZOFFSETTO:-0800
RDATE:20190310T020000
RDATE:20200308T020000
END:DAYLIGHT
END:VTIMEZONE
BEGIN:VEVENT
UID:7fa27d28-519d-436c-827b-feb01eee2af9
DTSTAMP:20260423T042719Z
DESCRIPTION:
DTSTART;TZID=America/Anchorage:20181013T110000
DTEND;TZID=America/Anchorage:20181013T160000
LOCATION:Ketchikan Public Library
SUMMARY:Geek Fest!!!!
END:VEVENT
END:VCALENDAR
