BEGIN:VCALENDAR
VERSION:2.0
PRODID:-//www.ketchikanarts.org//NONSGML kigkonsult.se iCalcreator 2.30.10/
 /
CALSCALE:GREGORIAN
METHOD:PUBLISH
UID:874cc4cf-0004-44d8-a99b-4d2a7cb4b5ea
X-WR-CALDESC:Music by local bands - 3 MAN and Woody's Finest Hour to dance 
 the night away!! $5 at the door
X-WR-RELCALID:f9c3e3948a7e97540035fb566fa6dc33
X-WR-TIMEZONE:America/Anchorage
BEGIN:VTIMEZONE
TZID:America/Anchorage
BEGIN:STANDARD
TZNAME:AKST
DTSTART:20171105T020000
TZOFFSETFROM:-0800
TZOFFSETTO:-0900
RDATE:20181104T020000
RDATE:20191103T020000
END:STANDARD
BEGIN:DAYLIGHT
TZNAME:AKDT
DTSTART:20180311T020000
TZOFFSETFROM:-0900
TZOFFSETTO:-0800
RDATE:20190310T020000
RDATE:20200308T020000
END:DAYLIGHT
END:VTIMEZONE
BEGIN:VEVENT
UID:7607abd0-4909-45f9-96c8-a11df1a73e13
DTSTAMP:20260423T042554Z
DESCRIPTION:Music by local bands - 3 MAN and Woody's Finest Hour to dance t
 he night away!! $5 at the door
DTSTART;TZID=America/Anchorage:20181013T200000
DTEND;TZID=America/Anchorage:20181013T233000
LOCATION:Creek Street Cabaret
SUMMARY:80s Dance Night
END:VEVENT
END:VCALENDAR
