BEGIN:VCALENDAR
VERSION:2.0
PRODID:-//www.ketchikanarts.org//NONSGML kigkonsult.se iCalcreator 2.30.10/
 /
CALSCALE:GREGORIAN
METHOD:PUBLISH
UID:40354ab0-5653-4c58-b6d5-a38db785628a
X-WR-CALDESC:
X-WR-RELCALID:bf36443ef546012712fdcde4ef650c32
X-WR-TIMEZONE:America/Anchorage
BEGIN:VTIMEZONE
TZID:America/Anchorage
BEGIN:STANDARD
TZNAME:AKST
DTSTART:20171105T020000
TZOFFSETFROM:-0800
TZOFFSETTO:-0900
RDATE:20181104T020000
RDATE:20191103T020000
END:STANDARD
BEGIN:DAYLIGHT
TZNAME:AKDT
DTSTART:20180311T020000
TZOFFSETFROM:-0900
TZOFFSETTO:-0800
RDATE:20190310T020000
RDATE:20200308T020000
END:DAYLIGHT
END:VTIMEZONE
BEGIN:VEVENT
UID:0937f66f-2961-4d57-aab1-c33b21cbf12e
DTSTAMP:20260423T043113Z
DESCRIPTION:
DTSTART;TZID=America/Anchorage:20181008T180000
DTEND;TZID=America/Anchorage:20181008T200500
LOCATION:Main Street Gallery
SUMMARY:BOOMbal Dance Hall
END:VEVENT
END:VCALENDAR
