BEGIN:VCALENDAR
VERSION:2.0
PRODID:-//www.ketchikanarts.org//NONSGML kigkonsult.se iCalcreator 2.30.10/
 /
CALSCALE:GREGORIAN
METHOD:PUBLISH
UID:95891647-0993-4190-8dae-3613c6f01c30
X-WR-CALDESC:
X-WR-RELCALID:f0af7a8f04b9854d4e9d4647b0132b2d
X-WR-TIMEZONE:America/Anchorage
BEGIN:VTIMEZONE
TZID:America/Anchorage
BEGIN:STANDARD
TZNAME:AKST
DTSTART:20171105T020000
TZOFFSETFROM:-0800
TZOFFSETTO:-0900
RDATE:20181104T020000
RDATE:20191103T020000
END:STANDARD
BEGIN:DAYLIGHT
TZNAME:AKDT
DTSTART:20180311T020000
TZOFFSETFROM:-0900
TZOFFSETTO:-0800
RDATE:20190310T020000
RDATE:20200308T020000
END:DAYLIGHT
END:VTIMEZONE
BEGIN:VEVENT
UID:88c84e01-85c4-44d5-aefd-4c58511c18df
DTSTAMP:20260423T043248Z
DESCRIPTION:
DTSTART;TZID=America/Anchorage:20181007T120000
DTEND;TZID=America/Anchorage:20181007T160000
LOCATION:The Plaza
SUMMARY:Friends of the Library Annual Book Sale
END:VEVENT
END:VCALENDAR
