BEGIN:VCALENDAR
VERSION:2.0
PRODID:-//www.ketchikanarts.org//NONSGML kigkonsult.se iCalcreator 2.30.10/
 /
CALSCALE:GREGORIAN
METHOD:PUBLISH
UID:316b8992-ba6b-4d2d-9e40-b12ac77756da
X-WR-CALDESC:The Nude & Rude Revue is a performance art collective speciali
 zing in variety\, vaudeville\, burlesque\, song\, and dance. Our innovativ
 e ideas\, classical training\, and artful arrangements all show clearly th
 at our joy is to share art. Nude & Rude began as a state of mind and life 
 philosophy shared by the troupe while living in Skagway\, Alaska. Allow us
  to tantalize\, empower\, celebrate\, and surprise with an array of acts f
 ueled by humor\, tease\, and an abundance of glamour. We invite all humans
  into our world to escape and play. Let the skeptics become believers\; le
 t the believers fall in love.\n\nTry it... you’ll like it!
X-WR-RELCALID:f3ecd8df41c7654d6d42fcad4f6626dd
X-WR-TIMEZONE:America/Anchorage
BEGIN:VTIMEZONE
TZID:America/Anchorage
BEGIN:STANDARD
TZNAME:AKST
DTSTART:20171105T020000
TZOFFSETFROM:-0800
TZOFFSETTO:-0900
RDATE:20181104T020000
RDATE:20191103T020000
END:STANDARD
BEGIN:DAYLIGHT
TZNAME:AKDT
DTSTART:20180311T020000
TZOFFSETFROM:-0900
TZOFFSETTO:-0800
RDATE:20190310T020000
RDATE:20200308T020000
END:DAYLIGHT
END:VTIMEZONE
BEGIN:VEVENT
UID:0b8d91dd-7d4a-44d0-a6dd-129e92ad41b7
DTSTAMP:20260423T043344Z
DESCRIPTION:The Nude & Rude Revue is a performance art collective specializ
 ing in variety\, vaudeville\, burlesque\, song\, and dance. Our innovative
  ideas\, classical training\, and artful arrangements all show clearly tha
 t our joy is to share art. Nude & Rude began as a state of mind and life p
 hilosophy shared by the troupe while living in Skagway\, Alaska. Allow us 
 to tantalize\, empower\, celebrate\, and surprise with an array of acts fu
 eled by humor\, tease\, and an abundance of glamour. We invite all humans 
 into our world to escape and play. Let the skeptics become believers\; let
  the believers fall in love.\n\nTry it... you’ll like it!
DTSTART;TZID=America/Anchorage:20181006T200000
DTEND;TZID=America/Anchorage:20181006T230000
LOCATION:Ted Ferry Civic Center
SUMMARY:The Nude & Rude Revue: Try It\; You'll Like it! Burlesque
END:VEVENT
END:VCALENDAR
