BEGIN:VCALENDAR
VERSION:2.0
PRODID:-//www.ketchikanarts.org//NONSGML kigkonsult.se iCalcreator 2.30.10/
 /
CALSCALE:GREGORIAN
METHOD:PUBLISH
UID:6a304254-9569-4099-98d6-a3f76d8a54a5
X-WR-CALDESC:October 5-26\, 2018: The Cultivated Table \n\nChef and artist 
 Robin Leventhal present an exploration in free form ceramics with a collec
 tion of hand-built \noyster platters and accoutrement\, celebrating the co
 nnection between touch\, taste\, texture\, and terra. \n\nMain Street Gall
 ery\n330 Main Street \nKetchikan\, AK \n\nHours:\nM\, T\, W\, F - 9 am to 
 5 pm\nThu - 10 am to 5 pm \nSat - 11 am to 3 pm (except the last Saturday 
 of the month)\n
X-WR-RELCALID:1ccbd7ebae5e67cef50875f5cd51bb00
X-WR-TIMEZONE:America/Anchorage
BEGIN:VTIMEZONE
TZID:America/Anchorage
BEGIN:STANDARD
TZNAME:AKST
DTSTART:20171105T020000
TZOFFSETFROM:-0800
TZOFFSETTO:-0900
RDATE:20181104T020000
RDATE:20191103T020000
END:STANDARD
BEGIN:DAYLIGHT
TZNAME:AKDT
DTSTART:20180311T020000
TZOFFSETFROM:-0900
TZOFFSETTO:-0800
RDATE:20190310T020000
RDATE:20200308T020000
END:DAYLIGHT
END:VTIMEZONE
BEGIN:VEVENT
UID:d62bddcf-afc0-4909-b2af-6dabfd18ca8d
DTSTAMP:20260423T043232Z
DESCRIPTION:October 5-26\, 2018: The Cultivated Table \n\nChef and artist R
 obin Leventhal present an exploration in free form ceramics with a collect
 ion of hand-built \noyster platters and accoutrement\, celebrating the con
 nection between touch\, taste\, texture\, and terra. \n\nMain Street Galle
 ry\n330 Main Street \nKetchikan\, AK \n\nHours:\nM\, T\, W\, F - 9 am to 5
  pm\nThu - 10 am to 5 pm \nSat - 11 am to 3 pm (except the last Saturday o
 f the month)\n
DTSTART;TZID=America/Anchorage:20181006T000000
DTEND;TZID=America/Anchorage:20181026T235900
LOCATION:Main Street Gallery
SUMMARY:'The Cultivated Table' - Main Street Gallery exhibit
END:VEVENT
END:VCALENDAR
