BEGIN:VCALENDAR
VERSION:2.0
PRODID:-//www.ketchikanarts.org//NONSGML kigkonsult.se iCalcreator 2.30.10/
 /
CALSCALE:GREGORIAN
METHOD:PUBLISH
UID:dfe20161-19d8-492e-964f-a31ef8852ec4
X-WR-CALDESC:
X-WR-RELCALID:b7c553fab5ac86b896a91d0e39721710
X-WR-TIMEZONE:America/Anchorage
BEGIN:VTIMEZONE
TZID:America/Anchorage
BEGIN:STANDARD
TZNAME:AKST
DTSTART:20171105T020000
TZOFFSETFROM:-0800
TZOFFSETTO:-0900
RDATE:20181104T020000
RDATE:20191103T020000
END:STANDARD
BEGIN:DAYLIGHT
TZNAME:AKDT
DTSTART:20180311T020000
TZOFFSETFROM:-0900
TZOFFSETTO:-0800
RDATE:20190310T020000
RDATE:20200308T020000
END:DAYLIGHT
END:VTIMEZONE
BEGIN:VEVENT
UID:6c7e7b49-b60f-4be3-af65-adf72a0be21c
DTSTAMP:20260423T043234Z
DESCRIPTION:
DTSTART;TZID=America/Anchorage:20181005T173000
DTEND;TZID=America/Anchorage:20181005T203000
LOCATION:Ted Ferry Civic Center
SUMMARY:Ketchikan Theatre Ballet Autumn Showcase
END:VEVENT
END:VCALENDAR
