BEGIN:VCALENDAR
VERSION:2.0
PRODID:-//www.ketchikanarts.org//NONSGML kigkonsult.se iCalcreator 2.30.10/
 /
CALSCALE:GREGORIAN
METHOD:PUBLISH
UID:fa1e362b-b260-4c76-ab46-699d3401d2c1
X-WR-CALDESC:October 5-26\, 2018: The Cultivated Table \n\nJoin us for an a
 rtist presentation and Oyster POP UP!!!!!!!!!!!!! Chef and artist Robin Le
 venthal is joined by Hump Island Oysters in this tasty conversation about 
 the oysters of Southeast Alaska\, and their presentation.\n\n
X-WR-RELCALID:ecf756bae95cb6669e891fc3882755d2
X-WR-TIMEZONE:America/Anchorage
BEGIN:VTIMEZONE
TZID:America/Anchorage
BEGIN:STANDARD
TZNAME:AKST
DTSTART:20171105T020000
TZOFFSETFROM:-0800
TZOFFSETTO:-0900
RDATE:20181104T020000
RDATE:20191103T020000
END:STANDARD
BEGIN:DAYLIGHT
TZNAME:AKDT
DTSTART:20180311T020000
TZOFFSETFROM:-0900
TZOFFSETTO:-0800
RDATE:20190310T020000
RDATE:20200308T020000
END:DAYLIGHT
END:VTIMEZONE
BEGIN:VEVENT
UID:6e62cee5-3db7-4138-a428-6d0b365f1492
DTSTAMP:20260423T042959Z
DESCRIPTION:October 5-26\, 2018: The Cultivated Table \n\nJoin us for an ar
 tist presentation and Oyster POP UP!!!!!!!!!!!!! Chef and artist Robin Lev
 enthal is joined by Hump Island Oysters in this tasty conversation about t
 he oysters of Southeast Alaska\, and their presentation.\n\n
DTSTART;TZID=America/Anchorage:20181005T170000
DTEND;TZID=America/Anchorage:20181005T180000
LOCATION:Main Street Gallery
SUMMARY:'The Cultivated Table' - Artist Presentation
END:VEVENT
END:VCALENDAR
