BEGIN:VCALENDAR
VERSION:2.0
PRODID:-//www.ketchikanarts.org//NONSGML kigkonsult.se iCalcreator 2.30.10/
 /
CALSCALE:GREGORIAN
METHOD:PUBLISH
UID:2779e14e-2600-4c97-8227-51e9c5a36972
X-WR-CALDESC:A multi-media open call exhibit inviting area youth to display
  their work\, celebrating the arts in our schools and community.
X-WR-RELCALID:5019562932ed72c7390401cfb9865145
X-WR-TIMEZONE:America/Anchorage
BEGIN:VTIMEZONE
TZID:America/Anchorage
BEGIN:STANDARD
TZNAME:AKST
DTSTART:20171105T020000
TZOFFSETFROM:-0800
TZOFFSETTO:-0900
RDATE:20181104T020000
RDATE:20191103T020000
END:STANDARD
BEGIN:DAYLIGHT
TZNAME:AKDT
DTSTART:20180311T020000
TZOFFSETFROM:-0900
TZOFFSETTO:-0800
RDATE:20190310T020000
RDATE:20200308T020000
END:DAYLIGHT
END:VTIMEZONE
BEGIN:VEVENT
UID:d02919a3-41ff-418a-a03a-373fc4dd7e3e
DTSTAMP:20260423T042654Z
DESCRIPTION:A multi-media open call exhibit inviting area youth to display 
 their work\, celebrating the arts in our schools and community.
DTSTART;TZID=America/Anchorage:20181001T100000
DTEND;TZID=America/Anchorage:20181001T110000
LOCATION:Main Street Gallery
SUMMARY:Youth in Art Application
END:VEVENT
END:VCALENDAR
