BEGIN:VCALENDAR
VERSION:2.0
PRODID:-//www.ketchikanarts.org//NONSGML kigkonsult.se iCalcreator 2.30.10/
 /
CALSCALE:GREGORIAN
METHOD:PUBLISH
UID:a3abbc83-a291-4f39-8be3-326985a5f6fe
X-WR-CALDESC:Representation Uncorked!!!   Join Dawn Schlosser for a night o
 f art\, inclusion\, and discovering how we all wish to be seen\, take up s
 pace\, and show up for each other. Dawn will lead us through creating a co
 llage piece that represents you\, and how you experience life\, your famil
 y\, your friends.\n\nThis is a 21+ event.\n\nSeptember 28\, 2018\, 7pm \nM
 ain Street Gallery\n
X-WR-RELCALID:f0f6f71e04e32ff4c3c9edc62bdbc156
X-WR-TIMEZONE:America/Anchorage
BEGIN:VTIMEZONE
TZID:America/Anchorage
BEGIN:STANDARD
TZNAME:AKST
DTSTART:20171105T020000
TZOFFSETFROM:-0800
TZOFFSETTO:-0900
RDATE:20181104T020000
RDATE:20191103T020000
END:STANDARD
BEGIN:DAYLIGHT
TZNAME:AKDT
DTSTART:20180311T020000
TZOFFSETFROM:-0900
TZOFFSETTO:-0800
RDATE:20190310T020000
RDATE:20200308T020000
END:DAYLIGHT
END:VTIMEZONE
BEGIN:VEVENT
UID:07d13584-b19e-46e5-8911-6cffe0843d98
DTSTAMP:20260423T060016Z
DESCRIPTION:Representation Uncorked!!!   Join Dawn Schlosser for a night of
  art\, inclusion\, and discovering how we all wish to be seen\, take up sp
 ace\, and show up for each other. Dawn will lead us through creating a col
 lage piece that represents you\, and how you experience life\, your family
 \, your friends.\n\nThis is a 21+ event.\n\nSeptember 28\, 2018\, 7pm \nMa
 in Street Gallery\n
DTSTART;TZID=America/Anchorage:20180928T190000
DTEND;TZID=America/Anchorage:20180928T210000
LOCATION:Main Street Gallery
SUMMARY:Representation Uncorked!! With Dawn Schlosser
END:VEVENT
END:VCALENDAR
