BEGIN:VCALENDAR
VERSION:2.0
PRODID:-//www.ketchikanarts.org//NONSGML kigkonsult.se iCalcreator 2.30.10/
 /
CALSCALE:GREGORIAN
METHOD:PUBLISH
UID:bdec68dc-f1d3-495a-b5aa-b78c57b48c08
X-WR-CALDESC:
X-WR-RELCALID:b2567682a60dadd9e657e4ec9bf10c14
X-WR-TIMEZONE:America/Anchorage
BEGIN:VTIMEZONE
TZID:America/Anchorage
BEGIN:STANDARD
TZNAME:AKST
DTSTART:20171105T020000
TZOFFSETFROM:-0800
TZOFFSETTO:-0900
RDATE:20181104T020000
RDATE:20191103T020000
END:STANDARD
BEGIN:DAYLIGHT
TZNAME:AKDT
DTSTART:20180311T020000
TZOFFSETFROM:-0900
TZOFFSETTO:-0800
RDATE:20190310T020000
RDATE:20200308T020000
END:DAYLIGHT
END:VTIMEZONE
BEGIN:VEVENT
UID:60c7a38f-93e2-4fbf-9b57-b379fb09f544
DTSTAMP:20260423T061136Z
DESCRIPTION:
DTSTART;TZID=America/Anchorage:20180928T191500
DTEND;TZID=America/Anchorage:20180928T220000
LOCATION:Creek Street Cabaret
SUMMARY:BOOMbal Dance Hall SWING DANCE!!
END:VEVENT
END:VCALENDAR
