BEGIN:VCALENDAR
VERSION:2.0
PRODID:-//www.ketchikanarts.org//NONSGML kigkonsult.se iCalcreator 2.30.10/
 /
CALSCALE:GREGORIAN
METHOD:PUBLISH
UID:5cdb6656-b58d-4d44-bd3d-2162abc2b699
X-WR-CALDESC:The Storefront Media Gallery—formerly called e4c—brings dynami
 c media art to an urban audience on the go. Apply to show your work on our
  screens\, visible to the thousands of pedestrians\, bicyclists\, and bus 
 riders that pass by our offices every day!\n\nFor more information please 
 click on the link below.
X-WR-RELCALID:a13027773f67f90bc7fd0a5cbc8a3fb3
X-WR-TIMEZONE:America/Anchorage
BEGIN:VTIMEZONE
TZID:America/Anchorage
BEGIN:STANDARD
TZNAME:AKST
DTSTART:20171105T020000
TZOFFSETFROM:-0800
TZOFFSETTO:-0900
RDATE:20181104T020000
RDATE:20191103T020000
END:STANDARD
BEGIN:DAYLIGHT
TZNAME:AKDT
DTSTART:20180311T020000
TZOFFSETFROM:-0900
TZOFFSETTO:-0800
RDATE:20190310T020000
RDATE:20200308T020000
END:DAYLIGHT
END:VTIMEZONE
BEGIN:VEVENT
UID:7d01d102-bdd2-41a3-be77-d6b1eff2fb9a
DTSTAMP:20260423T060836Z
DESCRIPTION:The Storefront Media Gallery—formerly called e4c—brings dynamic
  media art to an urban audience on the go. Apply to show your work on our 
 screens\, visible to the thousands of pedestrians\, bicyclists\, and bus r
 iders that pass by our offices every day!\n\nFor more information please c
 lick on the link below.
DTSTART;TZID=America/Anchorage:20180926T150000
DTEND;TZID=America/Anchorage:20180926T160000
LOCATION:
SUMMARY:CALL TO ARTIST: STOREFRONT MEDIA GALLERY
END:VEVENT
END:VCALENDAR
