BEGIN:VCALENDAR
VERSION:2.0
PRODID:-//www.ketchikanarts.org//NONSGML kigkonsult.se iCalcreator 2.30.10/
 /
CALSCALE:GREGORIAN
METHOD:PUBLISH
UID:55ecd2e3-312e-4d33-a0ba-453d2ffc94a8
X-WR-CALDESC:Drop-In Writing Sessions
X-WR-RELCALID:74b348d55ef4461f5ead32c155641f3a
X-WR-TIMEZONE:America/Anchorage
BEGIN:VTIMEZONE
TZID:America/Anchorage
BEGIN:STANDARD
TZNAME:AKST
DTSTART:20171105T020000
TZOFFSETFROM:-0800
TZOFFSETTO:-0900
RDATE:20181104T020000
RDATE:20191103T020000
END:STANDARD
BEGIN:DAYLIGHT
TZNAME:AKDT
DTSTART:20180311T020000
TZOFFSETFROM:-0900
TZOFFSETTO:-0800
RDATE:20190310T020000
RDATE:20200308T020000
END:DAYLIGHT
END:VTIMEZONE
BEGIN:VEVENT
UID:f912c69c-b820-44eb-9272-4b3fe4a01d4a
DTSTAMP:20260423T062003Z
DESCRIPTION:Drop-In Writing Sessions
DTSTART;TZID=America/Anchorage:20180926T153000
DTEND;TZID=America/Anchorage:20180926T193000
LOCATION:Ketchikan Public Library
SUMMARY:Fellowship of the Pen
END:VEVENT
END:VCALENDAR
