BEGIN:VCALENDAR
VERSION:2.0
PRODID:-//www.ketchikanarts.org//NONSGML kigkonsult.se iCalcreator 2.30.10/
 /
CALSCALE:GREGORIAN
METHOD:PUBLISH
UID:f41e6c73-34e7-4a5b-951a-c814369e8385
X-WR-CALDESC:The Ketchikan Community Concert Band meets each Monday evening
  from 7 to 8:30 pm. Directed by Roy McPherson\, the Band performs 3 times 
 annually. If you  are interested in being in the band pleas call Roy at 90
 7-225-3650. \n\nThe Spring performance is January 12th at the Kayhi Audito
 rium at 3pm. Tickets are $15 for adults and youth under 18 are free.
X-WR-RELCALID:45414613e37f4e505bb8f45543f943fa
X-WR-TIMEZONE:America/Anchorage
BEGIN:VTIMEZONE
TZID:America/Anchorage
BEGIN:STANDARD
TZNAME:AKST
DTSTART:20171105T020000
TZOFFSETFROM:-0800
TZOFFSETTO:-0900
RDATE:20181104T020000
RDATE:20191103T020000
END:STANDARD
BEGIN:DAYLIGHT
TZNAME:AKDT
DTSTART:20180311T020000
TZOFFSETFROM:-0900
TZOFFSETTO:-0800
RDATE:20190310T020000
RDATE:20200308T020000
END:DAYLIGHT
END:VTIMEZONE
BEGIN:VEVENT
UID:c241eff8-3a3a-4ac8-b882-7037bfca62cf
DTSTAMP:20260423T062813Z
DESCRIPTION:The Ketchikan Community Concert Band meets each Monday evening 
 from 7 to 8:30 pm. Directed by Roy McPherson\, the Band performs 3 times a
 nnually. If you  are interested in being in the band pleas call Roy at 907
 -225-3650. \n\nThe Spring performance is January 12th at the Kayhi Auditor
 ium at 3pm. Tickets are $15 for adults and youth under 18 are free.
DTSTART;TZID=America/Anchorage:20180924T190000
DTEND;TZID=America/Anchorage:20180924T203000
LOCATION:The Plaza Mall - Band Room
SUMMARY:Ketchikan Community Concert Band Rehearsal
END:VEVENT
END:VCALENDAR
