BEGIN:VCALENDAR
VERSION:2.0
PRODID:-//www.ketchikanarts.org//NONSGML kigkonsult.se iCalcreator 2.30.10/
 /
CALSCALE:GREGORIAN
METHOD:PUBLISH
UID:5edb344d-a046-46ef-b780-16b4676bec96
X-WR-CALDESC:The Ketchikan Area Arts and Humanities Council Board of Direct
 ors meet the third Wednesday of the month at 5:30pm.
X-WR-RELCALID:270e29187999718b52cd8f1780982fe1
X-WR-TIMEZONE:America/Anchorage
BEGIN:VTIMEZONE
TZID:America/Anchorage
BEGIN:STANDARD
TZNAME:AKST
DTSTART:20171105T020000
TZOFFSETFROM:-0800
TZOFFSETTO:-0900
RDATE:20181104T020000
RDATE:20191103T020000
END:STANDARD
BEGIN:DAYLIGHT
TZNAME:AKDT
DTSTART:20180311T020000
TZOFFSETFROM:-0900
TZOFFSETTO:-0800
RDATE:20190310T020000
RDATE:20200308T020000
END:DAYLIGHT
END:VTIMEZONE
BEGIN:VEVENT
UID:c4c03bbb-9c9a-49ea-8237-51bf1c950bb9
DTSTAMP:20260423T062255Z
DESCRIPTION:The Ketchikan Area Arts and Humanities Council Board of Directo
 rs meet the third Wednesday of the month at 5:30pm.
DTSTART;TZID=America/Anchorage:20180919T173000
DTEND;TZID=America/Anchorage:20180919T190000
LOCATION:Main Street Gallery
SUMMARY:KAAHC Board of Directors meeting
END:VEVENT
END:VCALENDAR
