BEGIN:VCALENDAR
VERSION:2.0
PRODID:-//www.ketchikanarts.org//NONSGML kigkonsult.se iCalcreator 2.30.10/
 /
CALSCALE:GREGORIAN
METHOD:PUBLISH
UID:f6065a45-b931-4f58-a04d-97be9c1b436f
X-WR-CALDESC:Drop-In Writing Sessions
X-WR-RELCALID:3b144e13e2847c12df1e7f5eccc17f84
X-WR-TIMEZONE:America/Anchorage
BEGIN:VTIMEZONE
TZID:America/Anchorage
BEGIN:STANDARD
TZNAME:AKST
DTSTART:20171105T020000
TZOFFSETFROM:-0800
TZOFFSETTO:-0900
RDATE:20181104T020000
RDATE:20191103T020000
END:STANDARD
BEGIN:DAYLIGHT
TZNAME:AKDT
DTSTART:20180311T020000
TZOFFSETFROM:-0900
TZOFFSETTO:-0800
RDATE:20190310T020000
RDATE:20200308T020000
END:DAYLIGHT
END:VTIMEZONE
BEGIN:VEVENT
UID:a787698d-601a-4287-8f6b-64d9adda7b7f
DTSTAMP:20260423T062833Z
DESCRIPTION:Drop-In Writing Sessions
DTSTART;TZID=America/Anchorage:20180919T153000
DTEND;TZID=America/Anchorage:20180919T193000
LOCATION:Ketchikan Public Library
SUMMARY:Fellowship of the Pen
END:VEVENT
END:VCALENDAR
