BEGIN:VCALENDAR
VERSION:2.0
PRODID:-//www.ketchikanarts.org//NONSGML kigkonsult.se iCalcreator 2.30.10/
 /
CALSCALE:GREGORIAN
METHOD:PUBLISH
UID:249518d2-a169-45d0-bf30-9b783c5a71bd
X-WR-CALDESC:The nonprofits of Ketchikan span across the community providin
 g an invaluable support system for the health and vitality of Ketchikan. I
 n the State of Alaska the nonprofit sector is second only to oil and gas i
 n providing jobs for Alaskans. That translate into nonprofits keeping peop
 le in Alaskan communities. In Ketchikan the nonprofit sector includes soci
 al services\, arts\, youth activities\, faith based organizations and so m
 uch more. At this Candidate Forum the Strengthening Nonprofit Collaborativ
 e will invite candidates to address community issues that impact the quali
 ty of life of all community members. \n\nOur facilitator for the evening w
 ill be Chelsea Goucher.
X-WR-RELCALID:4389c95e272dc87280bf183bbe5b2812
X-WR-TIMEZONE:America/Anchorage
BEGIN:VTIMEZONE
TZID:America/Anchorage
BEGIN:STANDARD
TZNAME:AKST
DTSTART:20171105T020000
TZOFFSETFROM:-0800
TZOFFSETTO:-0900
RDATE:20181104T020000
RDATE:20191103T020000
END:STANDARD
BEGIN:DAYLIGHT
TZNAME:AKDT
DTSTART:20180311T020000
TZOFFSETFROM:-0900
TZOFFSETTO:-0800
RDATE:20190310T020000
RDATE:20200308T020000
END:DAYLIGHT
END:VTIMEZONE
BEGIN:VEVENT
UID:189b99fb-0d03-446c-853d-8948aae916d0
DTSTAMP:20260423T055900Z
DESCRIPTION:The nonprofits of Ketchikan span across the community providing
  an invaluable support system for the health and vitality of Ketchikan. In
  the State of Alaska the nonprofit sector is second only to oil and gas in
  providing jobs for Alaskans. That translate into nonprofits keeping peopl
 e in Alaskan communities. In Ketchikan the nonprofit sector includes socia
 l services\, arts\, youth activities\, faith based organizations and so mu
 ch more. At this Candidate Forum the Strengthening Nonprofit Collaborative
  will invite candidates to address community issues that impact the qualit
 y of life of all community members. \n\nOur facilitator for the evening wi
 ll be Chelsea Goucher.
DTSTART;TZID=America/Anchorage:20180918T173000
DTEND;TZID=America/Anchorage:20180918T190000
LOCATION:The Plaza Mall Rm #208
SUMMARY:Nonprofit Candidate Forum
END:VEVENT
END:VCALENDAR
