BEGIN:VCALENDAR
VERSION:2.0
PRODID:-//www.ketchikanarts.org//NONSGML kigkonsult.se iCalcreator 2.30.10/
 /
CALSCALE:GREGORIAN
METHOD:PUBLISH
UID:4ad5d2a4-2b79-491d-9036-3e6731717dc9
X-WR-CALDESC:The 3:30 pm class is for kids followed by the 4:30 pm class fo
 r teens.  Join instructor Ema Oshima and learn how to draw manga! Supplies
  are provided. Please call 225-3331 for more information.
X-WR-RELCALID:e258bdb47776210e0cad7818dd78569b
X-WR-TIMEZONE:America/Anchorage
BEGIN:VTIMEZONE
TZID:America/Anchorage
BEGIN:STANDARD
TZNAME:AKST
DTSTART:20171105T020000
TZOFFSETFROM:-0800
TZOFFSETTO:-0900
RDATE:20181104T020000
RDATE:20191103T020000
END:STANDARD
BEGIN:DAYLIGHT
TZNAME:AKDT
DTSTART:20180311T020000
TZOFFSETFROM:-0900
TZOFFSETTO:-0800
RDATE:20190310T020000
RDATE:20200308T020000
END:DAYLIGHT
END:VTIMEZONE
BEGIN:VEVENT
UID:bb3e412f-b158-4e46-a8c7-4eb5c15f728e
DTSTAMP:20260423T061247Z
DESCRIPTION:The 3:30 pm class is for kids followed by the 4:30 pm class for
  teens.  Join instructor Ema Oshima and learn how to draw manga! Supplies 
 are provided. Please call 225-3331 for more information.
DTSTART;TZID=America/Anchorage:20180917T153000
DTEND;TZID=America/Anchorage:20180917T173000
LOCATION:Ketchikan Public Library
SUMMARY:Manga Drawing Workshop
END:VEVENT
END:VCALENDAR
