BEGIN:VCALENDAR
VERSION:2.0
PRODID:-//www.ketchikanarts.org//NONSGML kigkonsult.se iCalcreator 2.30.10/
 /
CALSCALE:GREGORIAN
METHOD:PUBLISH
UID:a45a81e0-5aa6-406a-8dd8-69bd63cf0c56
X-WR-CALDESC:Fundraiser for Ketchikan Youth Services.
X-WR-RELCALID:3a0231fb748960bcde4bee56b0125f0e
X-WR-TIMEZONE:America/Anchorage
BEGIN:VTIMEZONE
TZID:America/Anchorage
BEGIN:STANDARD
TZNAME:AKST
DTSTART:20171105T020000
TZOFFSETFROM:-0800
TZOFFSETTO:-0900
RDATE:20181104T020000
RDATE:20191103T020000
END:STANDARD
BEGIN:DAYLIGHT
TZNAME:AKDT
DTSTART:20180311T020000
TZOFFSETFROM:-0900
TZOFFSETTO:-0800
RDATE:20190310T020000
RDATE:20200308T020000
END:DAYLIGHT
END:VTIMEZONE
BEGIN:VEVENT
UID:f625f02e-78fb-4b0d-8af5-bcdc4123b1ed
DTSTAMP:20260423T060730Z
DESCRIPTION:Fundraiser for Ketchikan Youth Services.
DTSTART;TZID=America/Anchorage:20180915T163000
DTEND;TZID=America/Anchorage:20180915T203000
LOCATION:Ketchikan Youth Services
SUMMARY:Sprinkle it! Finish it! Ketchikan Youth Services Fundraiser
END:VEVENT
END:VCALENDAR
