BEGIN:VCALENDAR
VERSION:2.0
PRODID:-//www.ketchikanarts.org//NONSGML kigkonsult.se iCalcreator 2.30.10/
 /
CALSCALE:GREGORIAN
METHOD:PUBLISH
UID:fae2798e-ea30-43e8-80ed-0afe5c855c61
X-WR-CALDESC:
X-WR-RELCALID:5a3ade01cbaa652105ebd4ebeefa1111
X-WR-TIMEZONE:America/Anchorage
BEGIN:VTIMEZONE
TZID:America/Anchorage
BEGIN:STANDARD
TZNAME:AKST
DTSTART:20171105T020000
TZOFFSETFROM:-0800
TZOFFSETTO:-0900
RDATE:20181104T020000
RDATE:20191103T020000
END:STANDARD
BEGIN:DAYLIGHT
TZNAME:AKDT
DTSTART:20180311T020000
TZOFFSETFROM:-0900
TZOFFSETTO:-0800
RDATE:20190310T020000
RDATE:20200308T020000
END:DAYLIGHT
END:VTIMEZONE
BEGIN:VEVENT
UID:7318f605-1760-4249-a748-125bb29eb390
DTSTAMP:20260423T061510Z
DESCRIPTION:
DTSTART;TZID=America/Anchorage:20180913T170000
DTEND;TZID=America/Anchorage:20180913T190000
LOCATION:601 Deermount St
SUMMARY:Totem Heritage Center Open House
END:VEVENT
END:VCALENDAR
