BEGIN:VCALENDAR
VERSION:2.0
PRODID:-//www.ketchikanarts.org//NONSGML kigkonsult.se iCalcreator 2.30.10/
 /
CALSCALE:GREGORIAN
METHOD:PUBLISH
UID:abd3ff50-6186-4061-951c-2f86b799cea7
X-WR-CALDESC:Each week participants will discuss a short reading. Call 225-
 3331 for more information.
X-WR-RELCALID:32c9c0d4d4d68a3ed59ca0a25ba7f36b
X-WR-TIMEZONE:America/Anchorage
BEGIN:VTIMEZONE
TZID:America/Anchorage
BEGIN:STANDARD
TZNAME:AKST
DTSTART:20171105T020000
TZOFFSETFROM:-0800
TZOFFSETTO:-0900
RDATE:20181104T020000
RDATE:20191103T020000
END:STANDARD
BEGIN:DAYLIGHT
TZNAME:AKDT
DTSTART:20180311T020000
TZOFFSETFROM:-0900
TZOFFSETTO:-0800
RDATE:20190310T020000
RDATE:20200308T020000
END:DAYLIGHT
END:VTIMEZONE
BEGIN:VEVENT
UID:b91c834b-63a3-4b65-81a4-e32c8c6e90e1
DTSTAMP:20260423T060015Z
DESCRIPTION:Each week participants will discuss a short reading. Call 225-3
 331 for more information.
DTSTART;TZID=America/Anchorage:20180910T120000
DTEND;TZID=America/Anchorage:20180910T130000
LOCATION:Ketchikan Public Library
SUMMARY:Social Justice Reading Group
END:VEVENT
END:VCALENDAR
