BEGIN:VCALENDAR
VERSION:2.0
PRODID:-//www.ketchikanarts.org//NONSGML kigkonsult.se iCalcreator 2.30.10/
 /
CALSCALE:GREGORIAN
METHOD:PUBLISH
UID:68e4588d-361d-4027-ad33-e951dc18c64c
X-WR-CALDESC:
X-WR-RELCALID:8ff1cc4e485de0b1a5e7d89c851be52a
X-WR-TIMEZONE:America/Anchorage
BEGIN:VTIMEZONE
TZID:America/Anchorage
BEGIN:STANDARD
TZNAME:AKST
DTSTART:20171105T020000
TZOFFSETFROM:-0800
TZOFFSETTO:-0900
RDATE:20181104T020000
RDATE:20191103T020000
END:STANDARD
BEGIN:DAYLIGHT
TZNAME:AKDT
DTSTART:20180311T020000
TZOFFSETFROM:-0900
TZOFFSETTO:-0800
RDATE:20190310T020000
RDATE:20200308T020000
END:DAYLIGHT
END:VTIMEZONE
BEGIN:VEVENT
UID:58cc8464-6c01-40c7-8ad2-e1ffdef84830
DTSTAMP:20260423T061136Z
DESCRIPTION:
DTSTART;TZID=America/Anchorage:20180908T173000
DTEND;TZID=America/Anchorage:20180908T200000
LOCATION:Arctic Bar
SUMMARY:Marvin Scott Memorial Scholarship Fundraiser
END:VEVENT
END:VCALENDAR
