BEGIN:VCALENDAR
VERSION:2.0
PRODID:-//www.ketchikanarts.org//NONSGML kigkonsult.se iCalcreator 2.30.10/
 /
CALSCALE:GREGORIAN
METHOD:PUBLISH
UID:251530a6-edcf-4e04-b65b-8e4853a65369
X-WR-CALDESC:JoAnne Pearson-Johnson shares 60+ years of her artwork.
X-WR-RELCALID:d26a4229023766486784343aa73644d8
X-WR-TIMEZONE:America/Los_Angeles
BEGIN:VTIMEZONE
TZID:America/Los_Angeles
BEGIN:STANDARD
TZNAME:PST
DTSTART:20171105T020000
TZOFFSETFROM:-0700
TZOFFSETTO:-0800
RDATE:20181104T020000
RDATE:20191103T020000
END:STANDARD
BEGIN:DAYLIGHT
TZNAME:PDT
DTSTART:20180311T020000
TZOFFSETFROM:-0800
TZOFFSETTO:-0700
RDATE:20190310T020000
RDATE:20200308T020000
END:DAYLIGHT
END:VTIMEZONE
BEGIN:VEVENT
UID:7b69f9dc-861a-4faa-a1b7-751ed893eb01
DTSTAMP:20260423T062356Z
DESCRIPTION:JoAnne Pearson-Johnson shares 60+ years of her artwork.
DTSTART;TZID=America/Los_Angeles:20180908T100000
DTEND;TZID=America/Los_Angeles:20180908T160000
LOCATION:St. Johns By The Sea Catholic Church\, Klawock\, AK
SUMMARY:JoAnne Pearson-Johnson Art Sale
END:VEVENT
END:VCALENDAR
