BEGIN:VCALENDAR
VERSION:2.0
PRODID:-//www.ketchikanarts.org//NONSGML kigkonsult.se iCalcreator 2.30.10/
 /
CALSCALE:GREGORIAN
METHOD:PUBLISH
UID:1b1aa48d-fccf-44e3-be08-32227866b4c8
X-WR-CALDESC:Join Stephanie Patton for an evening of jazz at the Creek Stre
 et cabaret. Stephanie will be joined by Kim Henrickson\, Chazz Gist\, Aust
 in Hays\, Dale Curtis and Dave Kiffer. Music begins at 7:30\, $10 at the d
 oor.
X-WR-RELCALID:89d630a48e58e639541ee8938cde22fe
X-WR-TIMEZONE:America/Anchorage
BEGIN:VTIMEZONE
TZID:America/Anchorage
BEGIN:STANDARD
TZNAME:AKST
DTSTART:20171105T020000
TZOFFSETFROM:-0800
TZOFFSETTO:-0900
RDATE:20181104T020000
RDATE:20191103T020000
END:STANDARD
BEGIN:DAYLIGHT
TZNAME:AKDT
DTSTART:20180311T020000
TZOFFSETFROM:-0900
TZOFFSETTO:-0800
RDATE:20190310T020000
RDATE:20200308T020000
END:DAYLIGHT
END:VTIMEZONE
BEGIN:VEVENT
UID:6da4064f-4ff4-4e7e-8a9a-2921f83be221
DTSTAMP:20260423T061714Z
DESCRIPTION:Join Stephanie Patton for an evening of jazz at the Creek Stree
 t cabaret. Stephanie will be joined by Kim Henrickson\, Chazz Gist\, Austi
 n Hays\, Dale Curtis and Dave Kiffer. Music begins at 7:30\, $10 at the do
 or.
DTSTART;TZID=America/Anchorage:20180908T193000
DTEND;TZID=America/Anchorage:20180908T223000
LOCATION:Creek Street Cabaret
SUMMARY:An Evening of Jazz with Stephanie Patton
END:VEVENT
END:VCALENDAR
